BEGIN:VCALENDAR
VERSION:2.0
PRODID:-//МБУК МКЦ - ECPv4.6.12//NONSGML v1.0//EN
CALSCALE:GREGORIAN
METHOD:PUBLISH
X-WR-CALNAME:МБУК МКЦ
X-ORIGINAL-URL:https://zmkc.ru
X-WR-CALDESC:Events for МБУК МКЦ
BEGIN:VEVENT
DTSTART;TZID=UTC+4:20250821T180000
DTEND;TZID=UTC+4:20250821T190000
DTSTAMP:20260420T012218
CREATED:20250731T091212Z
LAST-MODIFIED:20250731T091212Z
UID:9222-1755799200-1755802800@zmkc.ru
SUMMARY:Организационное собрание в ГЭР "Малышок"
DESCRIPTION:
URL:https://zmkc.ru/event/organizatsionnoe-sobranie-v-ger-malyishok/
LOCATION:Вокзальная 16\, Жигулевск
END:VEVENT
END:VCALENDAR