BEGIN:VCALENDAR
VERSION:2.0
PRODID:-//МБУК МКЦ - ECPv4.6.12//NONSGML v1.0//EN
CALSCALE:GREGORIAN
METHOD:PUBLISH
X-WR-CALNAME:МБУК МКЦ
X-ORIGINAL-URL:https://zmkc.ru
X-WR-CALDESC:Events for МБУК МКЦ
BEGIN:VEVENT
DTSTART;TZID=UTC+4:20250518T140000
DTEND;TZID=UTC+4:20250518T153000
DTSTAMP:20260420T202752
CREATED:20250423T132612Z
LAST-MODIFIED:20250423T132612Z
UID:9105-1747576800-1747582200@zmkc.ru
SUMMARY:Онлайн трансляция. Языки музыки. Ритм.
DESCRIPTION:Концертный зал. Им. П.И.Чайковского          \nАвторы и ведущие цикла: \nЯрослав Тимофеев \nМария Холкина \nАкадемический симфонический оркестр \nМосковской филармонии \nАндрей Колясников\, дирижёр \nВалентин Малинин (фортепиано) \nЕвгений Лебедев (фортепиано) \nВ программе: \nБетховен \nСимфония № 5 (I часть) \nСвиридов \n«Время\, вперед!» из музыки к одноименному фильму \nАйвз \n«Вопрос\, оставшийся без ответа» \nБородин \n«Половецкие пляски» из оперы «Князь Игорь» (фрагмент) \nРавель \n«Болеро» \nАндерсон \n«Пишущая машинка» \nЦиффра \nТранскрипция фрагмента «Полет шмеля» из оперы Н. А. Римского-Корсакова «Сказка о царе Салтане» \n
URL:https://zmkc.ru/event/onlayn-translyatsiya-yazyiki-muzyiki-ritm/
LOCATION:Вокзальная 16\, Жигулевск
ATTACH;FMTTYPE=image/jpeg:https://zmkc.ru/wp-content/uploads/2025/03/YAzyik-muzyiki.Melodiya.jpg
END:VEVENT
END:VCALENDAR