BEGIN:VCALENDAR
VERSION:2.0
PRODID:-//МБУК МКЦ - ECPv4.6.12//NONSGML v1.0//EN
CALSCALE:GREGORIAN
METHOD:PUBLISH
X-WR-CALNAME:МБУК МКЦ
X-ORIGINAL-URL:https://zmkc.ru
X-WR-CALDESC:Events for МБУК МКЦ
BEGIN:VEVENT
DTSTART;VALUE=DATE:20200601
DTEND;VALUE=DATE:20200602
DTSTAMP:20260422T114306
CREATED:20200525T155936Z
LAST-MODIFIED:20200525T155936Z
UID:4795-1590969600-1591055999@zmkc.ru
SUMMARY:Онлайн-трансляция спектакля «Сказка- ложь\, да в ней намек...»
DESCRIPTION:Мини- спектакль средней группы студии актерского мастерства и художественного слова «Воздушный шар» уже успел стать лауреатом нескольких международных конкурсов.Посмотреть его онлайн можно будет 1 июня в 16.00  на странице Вконтакте сообщества «Театральная команда». Небольшие миниатюры по мотивам русских народных произведений искусно связаны режиссером в интересное и поучительное действие. Несмотря на юный возраст\, актеры очень живо и органично играют свои роли. Веселый смех зрителей слышен на протяжении всего мини- спектакля. В каждой сцене можно узнать себя. Лицемерные Гусыни; Курицы\, увлеченные пустой болтовней; Лиса и Медведь\, не желающие смирить свою гордыню – во всех персонажах можно заметить свои собственные черты и задуматься о своих собственных поступках.   \n
URL:https://zmkc.ru/event/onlayn-translyatsiya-spektaklya-skazka-lozh-da-v-ney-namek/
LOCATION:Вокзальная 16\, Жигулевск
END:VEVENT
END:VCALENDAR