BEGIN:VCALENDAR
VERSION:2.0
PRODID:-//МБУК МКЦ - ECPv4.6.12//NONSGML v1.0//EN
CALSCALE:GREGORIAN
METHOD:PUBLISH
X-WR-CALNAME:МБУК МКЦ
X-ORIGINAL-URL:https://zmkc.ru
X-WR-CALDESC:Events for МБУК МКЦ
BEGIN:VEVENT
DTSTART;VALUE=DATE:20200307
DTEND;VALUE=DATE:20200308
DTSTAMP:20260422T135826
CREATED:20200229T140312Z
LAST-MODIFIED:20200229T140312Z
UID:4411-1583539200-1583625599@zmkc.ru
SUMMARY:Онлайн-трансляция концерта национального академического оркестра народных инструментов России имени Н.П.Осипова
DESCRIPTION:Виртуальный концертный зал приглашает 7 марта в 14.00 на концерт оркестра имени Н.П. Осипова. \n\nДирижёр – Владимир Андропов\nВасилий Овсянников (баритон)\nДарья Рубцова (народный голос)\n\nОксана Молодцова (народный голос) \nсолисты и ансамбли оркестра \n\n\n\nВ ПРОГРАММЕ:\nДжойс\, Будашкин\, Шендерев\, Маляров\, Городовская\, Гридин\, Шалов\, русские народные песни и романсы.\n \n \n\n
URL:https://zmkc.ru/event/onlayn-translyatsiya-kontserta-natsionalnogo-akademicheskogo-orkestra-narodnyih-instrumentov-rossii-imeni-n-p-osipova/
END:VEVENT
END:VCALENDAR