BEGIN:VCALENDAR
VERSION:2.0
PRODID:-//МБУК МКЦ - ECPv4.6.12//NONSGML v1.0//EN
CALSCALE:GREGORIAN
METHOD:PUBLISH
X-WR-CALNAME:МБУК МКЦ
X-ORIGINAL-URL:https://zmkc.ru
X-WR-CALDESC:Events for МБУК МКЦ
BEGIN:VEVENT
DTSTART;VALUE=DATE:20200506
DTEND;VALUE=DATE:20200508
DTSTAMP:20260422T122910
CREATED:20200427T140059Z
LAST-MODIFIED:20200430T144817Z
UID:4719-1588723200-1588895999@zmkc.ru
SUMMARY:Онлайн мастер-класс "Георгиевская лента"
DESCRIPTION:Грядет великая дата для нашей страны – 75-летие Победы в Великой Отечественной войне. А одним из символов Дня Победы является георгиевская лента – биколор оранжевого и черного цветов. Черный цвет символизирует дым\, а оранжевый –  пламя. Студии декоративно-прикладного творчества Многофункционального культурного центра предлагают всем подписчикам своих страниц Вконтакте изготовить этот символ Победы своими руками.   6 и 7 мая на страницах ДК «Юбилейный» и «Фантазия» будут проходить онлайн мастер-классы по изготовлению креативных георгиевских лент. \n
URL:https://zmkc.ru/event/onlayn-master-klass-georgievskaya-lenta/
LOCATION:Фрунзе 36\, Жигулевск\, Российская Федерация
END:VEVENT
END:VCALENDAR