BEGIN:VCALENDAR
VERSION:2.0
PRODID:-//МБУК МКЦ - ECPv4.6.12//NONSGML v1.0//EN
CALSCALE:GREGORIAN
METHOD:PUBLISH
X-WR-CALNAME:МБУК МКЦ
X-ORIGINAL-URL:https://zmkc.ru
X-WR-CALDESC:Events for МБУК МКЦ
BEGIN:VEVENT
DTSTART;VALUE=DATE:20200416
DTEND;VALUE=DATE:20200423
DTSTAMP:20260422T151814
CREATED:20200416T152318Z
LAST-MODIFIED:20200416T152318Z
UID:4629-1586995200-1587599999@zmkc.ru
SUMMARY:Онлайн-конкурс "Шедевральная ИЗОляция".
DESCRIPTION:В рамках Международного дня культуры театральный коллектив «АПельсин» запускает новый конкурс. Условия участия предельно просты: \n— участникам необходимо выбрать какой-либо шедевр изобразительного искусства и повторить его в современных реалиях; \n— получившийся результат нужно сфотографировать; \n— прислать «фото» оригинального шедевра и фото своего шедевра в сообщениях группы «Театральная команда»; \n— прислать название картины\, автора и указать фамилию и имя участника конкурса; \n— количество работ от одного участника не ограничено. \nРаботы принимаются до 22 апреля включительно\, итоги конкурса будут подведены 23 апреля! Победители и участники конкурса получат дипломы Многофункционального культурного центра. \n
URL:https://zmkc.ru/event/onlayn-konkurs-shedevralnaya-izolyatsiya/
LOCATION:Вокзальная 16\, Жигулевск
END:VEVENT
END:VCALENDAR