BEGIN:VCALENDAR
VERSION:2.0
PRODID:-//МБУК МКЦ - ECPv4.6.12//NONSGML v1.0//EN
CALSCALE:GREGORIAN
METHOD:PUBLISH
X-WR-CALNAME:МБУК МКЦ
X-ORIGINAL-URL:https://zmkc.ru
X-WR-CALDESC:Events for МБУК МКЦ
BEGIN:VEVENT
DTSTART;VALUE=DATE:20200417
DTEND;VALUE=DATE:20200423
DTSTAMP:20260422T165259
CREATED:20200416T152001Z
LAST-MODIFIED:20200416T152001Z
UID:4626-1587081600-1587599999@zmkc.ru
SUMMARY:Онлайн-конкурс "Пасхальная фантазия".
DESCRIPTION:К Светлому празднику Пасхи готовятся заранее. Его украшает множество традиций: куличи\, расписные яйца\, различные поделки и открытки\, и даже целые Пасхальные композиции. В преддверии праздника на странице ВКонтакте КДЦ Гжигулевск пройдет конкурс «Пасхальные фантазии». На конкурс принимаются работы в 3-х номинациях: \n— Пасхальный рисунок; \n— Пасхальная поделка; \n— Фото пасхального стола. \nУчастникам нужно прислать свои работы в комментариях под постом Вконтакте с указанием фамилии\, имени\, возраста участника и названием номинации. От каждого участника может быть по одной работе в каждой номинации. Фото должны быть хорошего качества. Итоги конкурса будут объявлены 23 апреля на сайте МБУК «МКЦ». Победители конкурса получат дипломы Многофункционального культурного центра\, а все участники сертификаты за участие. \n
URL:https://zmkc.ru/event/onlayn-konkurs-pashalnaya-fantaziya/
LOCATION:Вокзальная 16\, Жигулевск
END:VEVENT
END:VCALENDAR