BEGIN:VCALENDAR
VERSION:2.0
PRODID:-//МБУК МКЦ - ECPv4.6.12//NONSGML v1.0//EN
CALSCALE:GREGORIAN
METHOD:PUBLISH
X-WR-CALNAME:МБУК МКЦ
X-ORIGINAL-URL:https://zmkc.ru
X-WR-CALDESC:Events for МБУК МКЦ
BEGIN:VEVENT
DTSTART;VALUE=DATE:20200616
DTEND;VALUE=DATE:20200627
DTSTAMP:20260422T144835
CREATED:20200616T113255Z
LAST-MODIFIED:20200616T113355Z
UID:4882-1592265600-1593215999@zmkc.ru
SUMMARY:Онлайн-конкурс «Моя жизнь в моих руках»
DESCRIPTION:Конкурс проходит на странице КДЦ Вконтакте. В настоящее время профилактика наркомании является важнейшим направлением деятельности не только школ\, но и учреждений культуры. Культурно-досуговый центр для детей и подростков объявляет конкурс рисунков и фотографий \, посвященный Международному Дню борьбы со злоупотреблением наркотических средств и их незаконным оборотом. Принимаются работы антинаркотической направленности и пропаганды здорового образа жизни. Рисунки могут выполняться красками\, карандашами\, акварелью и т.п.. Фотографии должны быть хорошего качества. \nНоминации: \n1. «Рисунок». \n2. «Фотография» — номинация «Мы выбираем жизнь!».   \nПрисылать работы в комментариях под постом с 16 по 25 июня ! (с указанием номинации\, фамилии и имени участника).  26 июня 2020 года – в Международной день борьбы с наркоманий\, будут объявлены результаты творческого конкурса. Итоги конкурса будут опубликованы на сайте МБУК «МКЦ»  \n
URL:https://zmkc.ru/event/onlayn-konkurs-moya-zhizn-v-moih-rukah/
LOCATION:Вокзальная 16\, Жигулевск
ATTACH;FMTTYPE=image/jpeg:https://zmkc.ru/wp-content/uploads/2020/06/sDPOEqVVnmM.jpg
END:VEVENT
END:VCALENDAR