BEGIN:VCALENDAR
VERSION:2.0
PRODID:-//МБУК МКЦ - ECPv4.6.12//NONSGML v1.0//EN
CALSCALE:GREGORIAN
METHOD:PUBLISH
X-WR-CALNAME:МБУК МКЦ
X-ORIGINAL-URL:https://zmkc.ru
X-WR-CALDESC:Events for МБУК МКЦ
BEGIN:VEVENT
DTSTART;VALUE=DATE:20200507
DTEND;VALUE=DATE:20200516
DTSTAMP:20260422T141131
CREATED:20200507T013253Z
LAST-MODIFIED:20200507T013253Z
UID:4738-1588809600-1589587199@zmkc.ru
SUMMARY:Онлайн-фотоконкурс "Все начинается с семьи"
DESCRIPTION:15 мая отмечается Международный день семьи\, и Культурно-досуговый центр для детей и подростков объявляет новый онлайн-конкурс фотографий «ВСЁ НАЧИНАЕТСЯ С СЕМЬИ». \nНоминации конкурса: \n1. «Ребенок — сердце семьи» — фотографии о взаимоотношениях детей и родителей. \n2. «Семейный портрет» — фотография семьи в полном составе. \n3. «Когда мы вместе\, мы счастливы» — фотография важного события в семье. \n4. «Отдыхаем всей семьей» — фотография семьи во время семейного отдыха. \n5. «Наше хобби» — фото семьи во время занятий  какими-либо семейными увлечениями. \nКонкурс проводится   до 15 мая 2020 года . \nУчастникам нужно оставить свое фото в комментариях под постом Вконтакте с указанием фамилии\, имени\, возраста участника и названием номинации. \nОт каждого участника может быть по одной работе в каждой номинации! \nФото должны быть хорошего качества! \nИтоги конкурса будут объявлены 16 мая на сайте  МБУК «МКЦ». Победители конкурса получат дипломы Многофункционального культурного центра. \n
URL:https://zmkc.ru/event/onlayn-fotokonkurs-vse-nachinaetsya-s-semi/
LOCATION:Вокзальная 16\, Жигулевск
END:VEVENT
END:VCALENDAR