BEGIN:VCALENDAR
VERSION:2.0
PRODID:-//МБУК МКЦ - ECPv4.6.12//NONSGML v1.0//EN
CALSCALE:GREGORIAN
METHOD:PUBLISH
X-WR-CALNAME:МБУК МКЦ
X-ORIGINAL-URL:https://zmkc.ru
X-WR-CALDESC:Events for МБУК МКЦ
BEGIN:VEVENT
DTSTART;VALUE=DATE:20200621
DTEND;VALUE=DATE:20200628
DTSTAMP:20260422T155729
CREATED:20200621T090342Z
LAST-MODIFIED:20200621T090343Z
UID:4921-1592697600-1593302399@zmkc.ru
SUMMARY:Онлайн - фотоконкурс «Мой Папа!»
DESCRIPTION:Конкурс проходит на странице ДК «Луч» Вконтакте. \n  По всему миру сложилась добрая традиция поздравлять отцов летом\, в третье воскресенье июня.  «День отца» – это праздник\, который символизирует любовь и уважение к родителю – опоре и защите семьи.  Дом культуры «Луч» посвятил свой новый конкурс этому замечательному празднику. Участникам нужно сфотографировать своего папу за различными занятиями и прислать фото в личные сообщения ДК «Луч» Вконтакте. \nУсловия конкурса: \n— возраст участников — не ограничен; \n— количество работ от каждого участника — не ограничено! \n—  под фото указать фамилию и имя участника. \n  Лучшие работы будут награждены дипломами Многофункционального культурного центра. Результаты конкурса будут опубликованы на нашем сайте МБУК «МКЦ». \n
URL:https://zmkc.ru/event/onlayn-fotokonkurs-moy-papa/
LOCATION:Фрунзе 36\, Жигулевск\, Российская Федерация
ATTACH;FMTTYPE=image/jpeg:https://zmkc.ru/wp-content/uploads/2020/06/p8oUHSlY-Cg.jpg
END:VEVENT
END:VCALENDAR