BEGIN:VCALENDAR
VERSION:2.0
PRODID:-//МБУК МКЦ - ECPv4.6.12//NONSGML v1.0//EN
CALSCALE:GREGORIAN
METHOD:PUBLISH
X-WR-CALNAME:МБУК МКЦ
X-ORIGINAL-URL:https://zmkc.ru
X-WR-CALDESC:Events for МБУК МКЦ
BEGIN:VEVENT
DTSTART;VALUE=DATE:20200608
DTEND;VALUE=DATE:20200616
DTSTAMP:20260422T174948
CREATED:20200608T151339Z
LAST-MODIFIED:20200608T151423Z
UID:4848-1591574400-1592265599@zmkc.ru
SUMMARY:Онлайн-фотоконкурс «Если с другом ты»
DESCRIPTION:9 июня – Международный день друзей! МБУК «МКЦ» предлагает принять участие в фотоконкурсе. Всё в этой жизни приходит и уходит: деньги\, работа\, вещи. Остаются только люди. И зачастую гораздо ближе родных\, и в некотором плане даже любимых\, становятся именно друзья. Ведь не зря так много стихов\, песен\, фильмов посвящено дружбе.   \nУчастникам нужно прислать в личных сообщениях Вконтакте группы МБУК «МКЦ» фотографии по трем номинациям: \n1.     «Друг детства». \n2.  «Общие увлечения». \n3.   «Коллаж». \nСамые интересные фотографии будут отмечены дипломами победителей от МБУК «МКЦ». Все участники получат сертификаты. \n
URL:https://zmkc.ru/event/onlayn-fotokonkurs-esli-s-drugom-tyi/
LOCATION:Никитина 9\, Яблоневый Овраг\, Российская Федерация
ATTACH;FMTTYPE=image/jpeg:https://zmkc.ru/wp-content/uploads/2020/06/cd1bfa71f4b6ee1dcc3f88c4fa7cd950.jpg
END:VEVENT
END:VCALENDAR