BEGIN:VCALENDAR
VERSION:2.0
PRODID:-//МБУК МКЦ - ECPv4.6.12//NONSGML v1.0//EN
CALSCALE:GREGORIAN
METHOD:PUBLISH
X-WR-CALNAME:МБУК МКЦ
X-ORIGINAL-URL:https://zmkc.ru
X-WR-CALDESC:Events for МБУК МКЦ
BEGIN:VEVENT
DTSTART;VALUE=DATE:20211227
DTEND;VALUE=DATE:20211230
DTSTAMP:20260422T085315
CREATED:20211130T083517Z
LAST-MODIFIED:20211130T083517Z
UID:6345-1640563200-1640822399@zmkc.ru
SUMMARY:Новогодняя история
DESCRIPTION:Новый год– это самый любимый праздник большинства взрослых и детей\, ведь в ночь с 31 декабря на 1 января (а в большинстве стран начало года приходится именно на эти числа) случаются самые настоящие чудеса! \nС нетерпением\, волнением и радостью люди ждут наступления торжественной ночи. Подготовка к празднику начинается заранее\, и к концу декабря уже вовсю сверкают огнями улицы городов\, а в каждом доме стоит наряженная елка. \nПраздничная атмосфера царит повсюду.  \nДля детей праздник начинается еще раньше вместе с новогодними представлениями. Многофункциональный культурный центр приглашает ребят на современную новогоднюю сказку с участием таких популярных героев\, как ПОП-ИТ и ПОП-ТУБУС. Праздничное настроение гарантировано! \nВремя представления по согласованию \nЗаписаться можно по тел. 8(84862)32903 \n
URL:https://zmkc.ru/event/novogodnyaya-istoriya/
LOCATION:Никитина 9\, Яблоневый Овраг\, Российская Федерация
ATTACH;FMTTYPE=image/jpeg:https://zmkc.ru/wp-content/uploads/2021/11/rowHk70dxeo.jpg
END:VEVENT
END:VCALENDAR