BEGIN:VCALENDAR
VERSION:2.0
PRODID:-//МБУК МКЦ - ECPv4.6.12//NONSGML v1.0//EN
CALSCALE:GREGORIAN
METHOD:PUBLISH
X-WR-CALNAME:МБУК МКЦ
X-ORIGINAL-URL:https://zmkc.ru
X-WR-CALDESC:Events for МБУК МКЦ
BEGIN:VEVENT
DTSTART;VALUE=DATE:20211220
DTEND;VALUE=DATE:20211230
DTSTAMP:20260422T101932
CREATED:20211130T082944Z
LAST-MODIFIED:20211130T082944Z
UID:6342-1639958400-1640822399@zmkc.ru
SUMMARY:Новогодний детектив
DESCRIPTION:Культурно-досуговый центр для детей и подростков подготовил для учащихся начальных классов весёлую новогоднюю сказку. Неожиданное похищение символа Нового Года заставляет Деда Мороза и Снегурочку начать собственное расследование\, в ходе которого они вышли на преступников по следам. Один из похитителей попытался выдать себя за Новогодний символ\, но попытка с треском провалилась. Как он выйдет из этой ситуации\, ребята узнают\, посетив представление. \nВо время программы зрители неоднократно будут принимать участие в веселых интерактивных играх и активно помогать в расследовании. \nВремя 10.00 и 12.00. Возможны варианты. \nЗапись на представление по номеру 8(84862)24903 \n
URL:https://zmkc.ru/event/novogodniy-detektiv/
LOCATION:Вокзальная 16\, Жигулевск
ATTACH;FMTTYPE=image/jpeg:https://zmkc.ru/wp-content/uploads/2021/11/ky_xel70D44.jpg
END:VEVENT
END:VCALENDAR