BEGIN:VCALENDAR
VERSION:2.0
PRODID:-//МБУК МКЦ - ECPv4.6.12//NONSGML v1.0//EN
CALSCALE:GREGORIAN
METHOD:PUBLISH
X-WR-CALNAME:МБУК МКЦ
X-ORIGINAL-URL:https://zmkc.ru
X-WR-CALDESC:Events for МБУК МКЦ
BEGIN:VEVENT
DTSTART;TZID=UTC+4:20251016T180000
DTEND;TZID=UTC+4:20251016T183000
DTSTAMP:20260419T145911
CREATED:20251010T074931Z
LAST-MODIFIED:20251010T074931Z
UID:9342-1760637600-1760639400@zmkc.ru
SUMMARY:Награждение  участников Городского творческого конкурса поделок из природного материала «ЧУДЕСА ПРИРОДЫ»
DESCRIPTION:
URL:https://zmkc.ru/event/nagrazhdenie-uchastnikov-gorodskogo-tvorcheskogo-konkursa-podelok-iz-prirodnogo-materiala-chudesa-prirodyi-2/
LOCATION:ул.Промышленная\, д.7\, Жигулевск\, Самарская область\, 445354\, Российская Федерация
END:VEVENT
END:VCALENDAR