BEGIN:VCALENDAR
VERSION:2.0
PRODID:-//МБУК МКЦ - ECPv4.6.12//NONSGML v1.0//EN
CALSCALE:GREGORIAN
METHOD:PUBLISH
X-WR-CALNAME:МБУК МКЦ
X-ORIGINAL-URL:https://zmkc.ru
X-WR-CALDESC:Events for МБУК МКЦ
BEGIN:VEVENT
DTSTART;TZID=UTC+4:20250514T173000
DTEND;TZID=UTC+4:20250514T180000
DTSTAMP:20260421T043717
CREATED:20250423T132152Z
LAST-MODIFIED:20250423T132152Z
UID:9097-1747243800-1747245600@zmkc.ru
SUMMARY:Награждение победителей городского творческого конкурса «Светлая Пасха»
DESCRIPTION:
URL:https://zmkc.ru/event/nagrazhdenie-pobediteley-gorodskogo-tvorcheskogo-konkursa-svetlaya-pasha-2/
LOCATION:Вокзальная 16\, Жигулевск
END:VEVENT
END:VCALENDAR