BEGIN:VCALENDAR
VERSION:2.0
PRODID:-//МБУК МКЦ - ECPv4.6.12//NONSGML v1.0//EN
CALSCALE:GREGORIAN
METHOD:PUBLISH
X-WR-CALNAME:МБУК МКЦ
X-ORIGINAL-URL:https://zmkc.ru
X-WR-CALDESC:Events for МБУК МКЦ
BEGIN:VEVENT
DTSTART;TZID=UTC+4:20251027T173000
DTEND;TZID=UTC+4:20251027T180000
DTSTAMP:20260419T132602
CREATED:20251010T075011Z
LAST-MODIFIED:20251010T075011Z
UID:9344-1761586200-1761588000@zmkc.ru
SUMMARY:Награждение победителей  Городского экологического конкурса поделок\, рисунков и творческих номеров «Берегите землю!»
DESCRIPTION:
URL:https://zmkc.ru/event/nagrazhdenie-pobediteley-gorodskogo-ekologicheskogo-konkursa-podelok-risunkov-i-tvorcheskih-nomerov-beregite-zemlyu/
LOCATION:Вокзальная 16\, Жигулевск
END:VEVENT
END:VCALENDAR