BEGIN:VCALENDAR
VERSION:2.0
PRODID:-//МБУК МКЦ - ECPv4.6.12//NONSGML v1.0//EN
CALSCALE:GREGORIAN
METHOD:PUBLISH
X-WR-CALNAME:МБУК МКЦ
X-ORIGINAL-URL:https://zmkc.ru
X-WR-CALDESC:Events for МБУК МКЦ
BEGIN:VEVENT
DTSTART;VALUE=DATE:20240724
DTEND;VALUE=DATE:20240901
DTSTAMP:20260422T133523
CREATED:20240724T123446Z
LAST-MODIFIED:20240724T123446Z
UID:8633-1721779200-1725148799@zmkc.ru
SUMMARY:Набор в вокальный коллектив "Звёздочки"
DESCRIPTION:Вокальный кружок «Звёздочки»  объявляет набор детей от 3-х до 9 лет на творческий сезон 2024-2025г.г. \nНа занятиях коллектива ребенок научится петь или приумножит свои вокальные данные \,а также обучится сценическому мастерству. Все\, что требуется — это хорошее настроение и желание петь! \nВ программе:\nразвитие природных данных\nразвитие музыкального слуха и чувства ритма\nучастие в мероприятиях учреждения и города\nучастие в конкурсах и фестивалях. \nЗаписаться можно в мессенджерах по тел.+79021847319 (Юлия Александровна Ермилина) \n
URL:https://zmkc.ru/event/nabor-v-vokalnyiy-kollektiv-zvyozdochki/
LOCATION:Вокзальная 16\, Жигулевск
ATTACH;FMTTYPE=image/jpeg:https://zmkc.ru/wp-content/uploads/2024/07/Nabor-v-zvyozdochki.jpg
END:VEVENT
END:VCALENDAR