BEGIN:VCALENDAR
VERSION:2.0
PRODID:-//МБУК МКЦ - ECPv4.6.12//NONSGML v1.0//EN
CALSCALE:GREGORIAN
METHOD:PUBLISH
X-WR-CALNAME:МБУК МКЦ
X-ORIGINAL-URL:https://zmkc.ru
X-WR-CALDESC:Events for МБУК МКЦ
BEGIN:VEVENT
DTSTART;VALUE=DATE:20240724
DTEND;VALUE=DATE:20240901
DTSTAMP:20260422T115036
CREATED:20240724T123205Z
LAST-MODIFIED:20240724T123206Z
UID:8629-1721779200-1725148799@zmkc.ru
SUMMARY:Набор в танцевальные коллективы
DESCRIPTION:Танцевальные коллективы Многофункционального культурного центра объявляют набор на новый творческий сезон 2024-2025г.г.  \nОбразцовый хореографический ансамбль «Элегия» (руководитель Суфиева Людмила Рафисовна) базируется в Культурно-досуговом центре для детей и подростков и Доме культуры «Луч» (мкр.Александровское поле).  Записаться можно по будням в рабочие часы по номеру +79047092800 (Людмила Рафисовна) \nХореографический ансамбль «Реверанс» (руководитель Михайлова Милана Владимировна) ведет творческую деятельность в стенах  Дома культуры «Колокольчик» (мкрн. Моркваши) и МБУК «МКЦ» (мкр. Яблоневый Овраг). Записаться можно в личных сообщениях руководителю. \nВ коллективах занимаются дети от 3-х до 18 лет. \nВ программу обучения включено: \n\nосновы классического танца;\nсовременный танец;\nнародный танец;\nпартерная гимнастика;\nразвитие данных;\nактерское мастерство;\nвыступления на городских мероприятиях;\nучастие в различных фестивалях и конкурсах.  \n\n \n
URL:https://zmkc.ru/event/nabor-v-tantsevalnyie-kollektivyi/
LOCATION:Никитина 9\, Яблоневый Овраг\, Российская Федерация
END:VEVENT
END:VCALENDAR