BEGIN:VCALENDAR
VERSION:2.0
PRODID:-//МБУК МКЦ - ECPv4.6.12//NONSGML v1.0//EN
CALSCALE:GREGORIAN
METHOD:PUBLISH
X-WR-CALNAME:МБУК МКЦ
X-ORIGINAL-URL:https://zmkc.ru
X-WR-CALDESC:Events for МБУК МКЦ
BEGIN:VEVENT
DTSTART;TZID=UTC+4:20201024T130000
DTEND;TZID=UTC+4:20201024T140000
DTSTAMP:20260422T135658
CREATED:20201012T114048Z
LAST-MODIFIED:20201012T114048Z
UID:5210-1603544400-1603548000@zmkc.ru
SUMMARY:Мюзикл для всей семьи «Бременские музыканты»
DESCRIPTION:Всеми любимому мультфильму и музыкальной фантазии «Бременские музыканты» Геннадия Гладкова\, Юрия Энтина и Василия Ливанова о свободолюбивых музыкантах из Бремена исполнилось  50 лет. Это был смелый эксперимент — в нем соединились мода и популярные персонажи 60-х годов 20 века\, остроумные шаржи и пародии\, смешались сказка и современность. Экспериментом стал и этот спектакль режиссера Николая Маркелова и художника Сергея Новикова\, премьера которого состоялась 20 декабря 2019 года в Государственный театре оперы и балета Удмуртской области города Ижевска. \nВиртуальный концертный зал г.о. Жигулевск предлагает окунуться вновь в эту сказку. Основа сюжета сказки — это\, конечно\, история любви\, а еще непременное желание стать знаменитым и покорить зрителя\, стать звездой! Все происходящее на сцене становится ярким неоновым шоу\, посвященным 20 веку\, его пластинкам и дискам\, поп- и рок-музыке. Финалом станет вручение главной музыкальной награды и признание наших героев настоящими звездами! \n
URL:https://zmkc.ru/event/myuzikl-dlya-vsey-semi-bremenskie-muzyikantyi/
LOCATION:Вокзальная 16\, Жигулевск
ATTACH;FMTTYPE=image/jpeg:https://zmkc.ru/wp-content/uploads/2020/10/6cbde72fdb9e7a33925cfa1d53917e95.jpg
END:VEVENT
END:VCALENDAR