BEGIN:VCALENDAR
VERSION:2.0
PRODID:-//МБУК МКЦ - ECPv4.6.12//NONSGML v1.0//EN
CALSCALE:GREGORIAN
METHOD:PUBLISH
X-WR-CALNAME:МБУК МКЦ
X-ORIGINAL-URL:https://zmkc.ru
X-WR-CALDESC:Events for МБУК МКЦ
BEGIN:VEVENT
DTSTART;TZID=UTC+4:20201205T130000
DTEND;TZID=UTC+4:20201205T143000
DTSTAMP:20260422T133530
CREATED:20201130T033534Z
LAST-MODIFIED:20201130T033535Z
UID:5463-1607173200-1607178600@zmkc.ru
SUMMARY:Музыкальная сказка для детей «Мама»
DESCRIPTION:Виртуальный концертный зал приглашает на мюзикл для детей. \nНезатейливый сюжет старой сказки о Волке\, который обманом выкрал у Козы ее козлят\, предстаёт в новой\, остроумной и занимательной музыкальной интерпретации\, созданной международным творческим коллективом. В этой яркой\, сверкающей\, танцевальной сказке Волка сыграл\, спел и станцевал Михаил Боярский! У него получился шикарный\, экстравагантный\, в фиолетово-синем парике красавец-Волк. Конечно\, этот коварный Волк тоже настойчиво стремился украсть бедных козлят\, ради чего он даже приударял за обаятельной и привлекательной Мамой-Козой\, которую в фильме блестяще сыграла Людмила Гурченко.  \nГод выхода: 1976 \nСтрана производитель: СССР \nДлительность: 83 мин. \nЖанр: Мюзикл \nВ ролях: Михаил Боярский\, Олег Попов\, Савелий Крамаров\, Людмила Гурченко\, Флориан Питиш\, Вера Ивлева\, Валентин Манохин \nРежиссёр: Элизабет Бостан \nПроизводитель: «Мосфильм»  \n
URL:https://zmkc.ru/event/muzyikalnaya-skazka-dlya-detey-mama/
LOCATION:Вокзальная 16\, Жигулевск
ATTACH;FMTTYPE=image/jpeg:https://zmkc.ru/wp-content/uploads/2020/11/d873e73cd9d4da6054a75ec99ffd03c2_w460_h320.jpeg
END:VEVENT
END:VCALENDAR