BEGIN:VCALENDAR
VERSION:2.0
PRODID:-//МБУК МКЦ - ECPv4.6.12//NONSGML v1.0//EN
CALSCALE:GREGORIAN
METHOD:PUBLISH
X-WR-CALNAME:МБУК МКЦ
X-ORIGINAL-URL:https://zmkc.ru
X-WR-CALDESC:Events for МБУК МКЦ
BEGIN:VEVENT
DTSTART;TZID=UTC+4:20200906T130000
DTEND;TZID=UTC+4:20200906T153000
DTSTAMP:20260422T133309
CREATED:20200902T080349Z
LAST-MODIFIED:20200902T080451Z
UID:5112-1599397200-1599406200@zmkc.ru
SUMMARY:Музыка нашего кино
DESCRIPTION:Виртуальный концертный зал г.о. Жигулевск приглашает 6 сентября в 13.00 на очередную трансляцию. \nАкадемический симфонический оркестр\nМосковской филармонии\nДирижёр – Игорь Манашеров\nВ ПРОГРАММЕ:\nПетров\nУвертюра из музыки к кинофильму «Укрощение огня»; Артемьев\n«Три товарища» из музыки к кинофильму «Свой среди чужих\, чужой среди своих»;Тема любви из музыки к кинофильму «Сибирский цирюльник»; Б. Чайковский\nМузыка к кинофильму «Подросток»; Шварц\n«Встреча» из музыки к телефильму «Золотая мина»; Эшпай\nУвертюра из музыки к кинофильму «Адъютант его превосходительства»; Хренников\nСюита из музыки к кинофильмам «Верные друзья»\, «Свинарка и пастух»\, «Поезд идет на Восток»\, «Любовью за любовь»\, «Гусарская баллада»; Вайнберг\nМузыка к кинофильму «Последний дюйм»; Рыбников\nМузыка к кинофильму «Звезда»; Овчинников\n«Вальс к первому балу Наташи Ростовой» из музыки к кинофильму «Война и мир»; Шнитке\nСюита из музыки к кинофильму «Экипаж»;\nА. Хачатурян\nВальс из музыки к драме М.Лермонтова «Маскарад». \n
URL:https://zmkc.ru/event/muzyika-nashego-kino/
LOCATION:Вокзальная 16\, Жигулевск
ATTACH;FMTTYPE=image/jpeg:https://zmkc.ru/wp-content/uploads/2020/09/regnum_picture_1489494561395929_normal.jpg
END:VEVENT
END:VCALENDAR