BEGIN:VCALENDAR
VERSION:2.0
PRODID:-//МБУК МКЦ - ECPv4.6.12//NONSGML v1.0//EN
CALSCALE:GREGORIAN
METHOD:PUBLISH
X-WR-CALNAME:МБУК МКЦ
X-ORIGINAL-URL:https://zmkc.ru
X-WR-CALDESC:Events for МБУК МКЦ
BEGIN:VEVENT
DTSTART;TZID=UTC+4:20210106T150000
DTEND;TZID=UTC+4:20210106T163000
DTSTAMP:20260422T120710
CREATED:20201124T100832Z
LAST-MODIFIED:20201124T100832Z
UID:5447-1609945200-1609950600@zmkc.ru
SUMMARY:Мультфильм «Снегурочка»
DESCRIPTION:Виртуальный концертный зал приглашает детей и родителей на волшебную мультипликационную сказку по мотивам всем известного произведения А.Островского. \nСнегурочка\, дочь Весны и Деда Мороза просится пожить среди людей. Родители отпускают ее. Но Снегурочка\, встретив Леля\, забыла о родительском напутствии – не влюбляться… \nГод выхода: 1952 \nСтрана производитель: СССР \nДлительность: 65 мин. \nЖанр: Сказка \nРоли озвучивают: Вениамин Шевцов\, Леонид Ктиторов\, Ирина Масленникова \nРежиссёр: Иван Иванов-Вано  \nВ мультфильме был использован\, предложенный художником-аниматором Виктором Никитиным\, новаторский художественный приём — применение люминесцентных красок. \n
URL:https://zmkc.ru/event/multfilm-snegurochka/
LOCATION:Вокзальная 16\, Жигулевск
ATTACH;FMTTYPE=image/jpeg:https://zmkc.ru/wp-content/uploads/2020/11/snegurochka-sbornik-multfilmov.jpg
END:VEVENT
END:VCALENDAR