BEGIN:VCALENDAR
VERSION:2.0
PRODID:-//МБУК МКЦ - ECPv4.6.12//NONSGML v1.0//EN
CALSCALE:GREGORIAN
METHOD:PUBLISH
X-WR-CALNAME:МБУК МКЦ
X-ORIGINAL-URL:https://zmkc.ru
X-WR-CALDESC:Events for МБУК МКЦ
BEGIN:VEVENT
DTSTART;TZID=UTC+4:20211207T173000
DTEND;TZID=UTC+4:20211207T190000
DTSTAMP:20260422T125818
CREATED:20211125T060613Z
LAST-MODIFIED:20211130T083204Z
UID:6325-1638898200-1638903600@zmkc.ru
SUMMARY:Морозко
DESCRIPTION:Виртуальный концертный зал г.о.Жигулёвск приглашает на самую любимую зимнюю сказку. \nКиносказка «Морозко» была дублирована на несколько языков и попала в прокат Великобритании\, ГДР\, США\, Мексики\, Финляндии и других стран. До сих пор фильм остается одной из главных новогодних картин России\, а также Чехии\, где сказку любовно называют «Мразик». \nСценаристы Николай Эрдман и Михаил Вольпин соединили в этой киноленте две самостоятельные истории: непосредственно «Морозко» и сказку об «Иване с медвежьей головой». Киновед и историк Кира Парамонова говорила о сценарии Эрдмана и Волыпина как о лучшем сказочном киноповествовании\, самом гармоничном и остроумном. Во многом литературная основа и привела фильм к успеху. Режиссер и сценаристы создали особый мир\, близкий и детям\, и взрослым. Здесь не все решается силой и колдовством\, зато с помощью доброты и трудолюбия можно преодолеть любые преграды. В сказке Роу и солнце готово взойти позже\, чтобы Настенька успела довязать чулок и не попасть под горячую руку мачехи\, и цветы на сухом пне расцветают. Вот только добро должно быть искренним\, иначе оно не победит чары: долго ведь Ивану пришлось проходить с медвежьей головой\, пока он не исправился. \n
URL:https://zmkc.ru/event/morozko/
LOCATION:Вокзальная 16\, Жигулевск
ATTACH;FMTTYPE=image/jpeg:https://zmkc.ru/wp-content/uploads/2021/11/1609332162_4.jpg
END:VEVENT
END:VCALENDAR