BEGIN:VCALENDAR
VERSION:2.0
PRODID:-//МБУК МКЦ - ECPv4.6.12//NONSGML v1.0//EN
CALSCALE:GREGORIAN
METHOD:PUBLISH
X-WR-CALNAME:МБУК МКЦ
X-ORIGINAL-URL:https://zmkc.ru
X-WR-CALDESC:Events for МБУК МКЦ
BEGIN:VEVENT
DTSTART;TZID=UTC+4:20220409T173000
DTEND;TZID=UTC+4:20220409T200000
DTSTAMP:20260422T122005
CREATED:20220405T102320Z
LAST-MODIFIED:20220405T102320Z
UID:6547-1649525400-1649534400@zmkc.ru
SUMMARY:Молодежный ивент "Сезон риска"
DESCRIPTION:Конкурсы. Шоу. Живые музыкальные выступления. Кола. \n
URL:https://zmkc.ru/event/molodezhnyiy-ivent-sezon-riska/
LOCATION:Никитина 9\, Яблоневый Овраг\, Российская Федерация
ATTACH;FMTTYPE=image/jpeg:https://zmkc.ru/wp-content/uploads/2022/04/SUz5n4n7Tak.jpg
END:VEVENT
END:VCALENDAR