BEGIN:VCALENDAR
VERSION:2.0
PRODID:-//МБУК МКЦ - ECPv4.6.12//NONSGML v1.0//EN
CALSCALE:GREGORIAN
METHOD:PUBLISH
X-WR-CALNAME:МБУК МКЦ
X-ORIGINAL-URL:https://zmkc.ru
X-WR-CALDESC:Events for МБУК МКЦ
BEGIN:VEVENT
DTSTART;VALUE=DATE:20250915
DTEND;VALUE=DATE:20250920
DTSTAMP:20260419T210816
CREATED:20250915T122449Z
LAST-MODIFIED:20250915T122449Z
UID:9299-1757894400-1758326399@zmkc.ru
SUMMARY:Мое яркое лето
DESCRIPTION:🎨🌞 Приглашаем нарисовать свое «Яркое Лето»! \nПривет всем любителям рисовать и творческим личностям! 😊 \nВ нашем городе стартует классный конкурс под названием «Мое Яркое Лето» ✨\nЭто возможность показать свои таланты\, окунуться в творчество и провести время весело и полезно! 🌈\nПрием работ начинается – с 15 по 19 сентября\, так что не упустите шанс поучаствовать! \nЧтобы принять участие\, нужно всего лишь подготовить свой рисунок на тему лета и принести его до конца срока приема в ДК Яблоневого оврага (Многофункциональный культурный центр)\, микрорайон Яблоневый Овраг\, улица Никитина\, дом 9 ☀\n 💥 \nОрганизационный взнос символический — всего 100 рублей. Это поможет поддержать наше мероприятие и сделать его еще более интересным и масштабным! 🤗 \nА чтобы узнать все подробности конкурса\, загляните в положение 😉 Оно подробно расскажет о том\, как правильно оформить работу\, какие призы ждут победителей и кто будет оценивать ваши шедевры. \nЖдем ваших ярких картин и вдохновения! Пусть ваше лето останется ярким воспоминанием навсегда! 🔥😄 \nПо вопросам обращаться по тел. 8 937 663 02 82 Юлия Александровна.\nПодробности в положении👇 \nМое яркое лето_2025. Положение конкурса \n
URL:https://zmkc.ru/event/moe-yarkoe-leto/
LOCATION:Никитина 9\, Яблоневый Овраг\, Российская Федерация
ATTACH;FMTTYPE=image/jpeg:https://zmkc.ru/wp-content/uploads/2025/09/fFwa8Ar3poAQIBIsWs56xVPYD44olDFPLSau6uqoHVk-aW8Rd4cDpa8hLvLKBklUlmk8BUMeFvq2YEv9t_v9xQNE.jpg
END:VEVENT
END:VCALENDAR