BEGIN:VCALENDAR
VERSION:2.0
PRODID:-//МБУК МКЦ - ECPv4.6.12//NONSGML v1.0//EN
CALSCALE:GREGORIAN
METHOD:PUBLISH
X-WR-CALNAME:МБУК МКЦ
X-ORIGINAL-URL:https://zmkc.ru
X-WR-CALDESC:Events for МБУК МКЦ
BEGIN:VEVENT
DTSTART;VALUE=DATE:20200703
DTEND;VALUE=DATE:20200704
DTSTAMP:20260422T130748
CREATED:20200616T073826Z
LAST-MODIFIED:20200616T074031Z
UID:4876-1593734400-1593820799@zmkc.ru
SUMMARY:Мастер-класс «Щенок»
DESCRIPTION:    В наше время очень большой популярностью пользуются самые разнообразные театральные студии и кружки. В Культурно-досуговом центре для детей и подростков г. Жигулевск есть целая «Театральная команда». Несмотря на определенные ограничения\, связанные с угрозой распространения коронавирусной инфекции\, руководитель коллектива не прекращает заниматься со своими воспитанниками\, переведя репетиции и занятия в режим онлайн. Кредо  Кузьминой Юлии Сергеевны: «Актер должен уметь все сам!» Для воспитанников  кружков Юлии Сергеевны\, а также для всех остальных желающих\, на странице сообщества «Театральная команда» будет показано видео мастер-класса по гриму.   \n
URL:https://zmkc.ru/event/master-klass-shhenok/
LOCATION:Вокзальная 16\, Жигулевск
ATTACH;FMTTYPE=image/jpeg:https://zmkc.ru/wp-content/uploads/2020/06/DwjKoe_xke0.jpg
END:VEVENT
END:VCALENDAR