BEGIN:VCALENDAR
VERSION:2.0
PRODID:-//МБУК МКЦ - ECPv4.6.12//NONSGML v1.0//EN
CALSCALE:GREGORIAN
METHOD:PUBLISH
X-WR-CALNAME:МБУК МКЦ
X-ORIGINAL-URL:https://zmkc.ru
X-WR-CALDESC:Events for МБУК МКЦ
BEGIN:VEVENT
DTSTART;VALUE=DATE:20191212
DTEND;VALUE=DATE:20191213
DTSTAMP:20260423T030946
CREATED:20191127T082613Z
LAST-MODIFIED:20191127T082613Z
UID:3902-1576108800-1576195199@zmkc.ru
SUMMARY:Мастер-класс «Новогодняя игрушка»
DESCRIPTION:Для всех детей\, желающих украсить новогоднюю елку игрушкой\, изготовленной своими руками\, МБУК «МКЦ» 12 декабря в 13.00 проводит специальный новогодний мастер-класс. \n
URL:https://zmkc.ru/event/master-klass-novogodnyaya-igrushka/
LOCATION:Никитина 9\, Яблоневый Овраг\, Российская Федерация
END:VEVENT
END:VCALENDAR