BEGIN:VCALENDAR
VERSION:2.0
PRODID:-//МБУК МКЦ - ECPv4.6.12//NONSGML v1.0//EN
CALSCALE:GREGORIAN
METHOD:PUBLISH
X-WR-CALNAME:МБУК МКЦ
X-ORIGINAL-URL:https://zmkc.ru
X-WR-CALDESC:Events for МБУК МКЦ
BEGIN:VEVENT
DTSTART;TZID=UTC+0:20190507T080000
DTEND;TZID=UTC+0:20190507T170000
DTSTAMP:20260424T233441
CREATED:20190418T054709Z
LAST-MODIFIED:20190418T054709Z
UID:2626-1557216000-1557248400@zmkc.ru
SUMMARY:Мастер- класс «Георгиевская лента»
DESCRIPTION:
URL:https://zmkc.ru/event/master-klass-georgievskaya-lenta/
LOCATION:Вокзальная 16\, Жигулевск
END:VEVENT
END:VCALENDAR