BEGIN:VCALENDAR
VERSION:2.0
PRODID:-//МБУК МКЦ - ECPv4.6.12//NONSGML v1.0//EN
CALSCALE:GREGORIAN
METHOD:PUBLISH
X-WR-CALNAME:МБУК МКЦ
X-ORIGINAL-URL:https://zmkc.ru
X-WR-CALDESC:Events for МБУК МКЦ
BEGIN:VEVENT
DTSTART;TZID=UTC+4:20220306T120000
DTEND;TZID=UTC+4:20220306T140000
DTSTAMP:20260422T104418
CREATED:20220210T055521Z
LAST-MODIFIED:20220210T055521Z
UID:6444-1646568000-1646575200@zmkc.ru
SUMMARY:Масленица
DESCRIPTION:Масленица считается старинным русским народным праздником. По сути\, это прощание с зимой и торжественная встреча красавицы-весны. \nМасленица – праздник языческий. И первоначально ее празднование на Руси было связано\, по одним версиям\, с прославлением бога Солнца Ярилы\, по другим — «скотьего бога» Велеса. \nВ древние времена этот день был одним из тех\, что помогают осмыслить течение времени — смена сезонов обросла множеством примет и ритуалов. Масленица была одним из них — праздновали уходящую зиму и надеялись на скорое тепло. Гуляния всегда сопровождались огнем — горящие костры\, колеса и чучело были главными атрибутами Масленицы и отзвуками культа солнца\, царившего на Руси.  \nСейчас  это самый веселый и сытный народный праздник. В народе Масленицу ласково называют «касаточка»\, «сахарные уста»\, «целовальница»\, «честнáя»\, «веселая»\, «пеpепелочка»\, «пеpебуха»\, «объедуха»\, «ясочка». \nПо-русски весело пройдет и празднование Масленицы в Жигулевске. Традиционно на главной площади города пройдут народные гуляния с конкурсами\, аттракционами\, веселыми скоморохами и творческими номерами от Многофункционального культурного центра. \n
URL:https://zmkc.ru/event/maslenitsa/
LOCATION:Вокзальная 16\, Жигулевск
ATTACH;FMTTYPE=image/jpeg:https://zmkc.ru/wp-content/uploads/2021/03/DSC_0107.jpg
END:VEVENT
END:VCALENDAR