BEGIN:VCALENDAR
VERSION:2.0
PRODID:-//МБУК МКЦ - ECPv4.6.12//NONSGML v1.0//EN
CALSCALE:GREGORIAN
METHOD:PUBLISH
X-WR-CALNAME:МБУК МКЦ
X-ORIGINAL-URL:https://zmkc.ru
X-WR-CALDESC:Events for МБУК МКЦ
BEGIN:VEVENT
DTSTART;TZID=UTC+4:20201023T180000
DTEND;TZID=UTC+4:20201023T200000
DTSTAMP:20260422T155433
CREATED:20201012T100648Z
LAST-MODIFIED:20201012T100648Z
UID:5202-1603476000-1603483200@zmkc.ru
SUMMARY:«Мама\, папа\, Я - дружная семья!»
DESCRIPTION:Уже семь лет каждую осень Культурно-досуговый центр для детей и подростков проводит веселую конкурсную программу для семей г.о. Жигулевск. Принять участие может любая семья с ребенком не младше 5-ти  и не старше 6-ти лет. Команда должна состоять из мамы\, папы и ребенка. Программа проходит в три этапа:\n1.      «Визитная карточка». Каждая семья должна себя представить (название команды\, девиз\, интересы и увлечения членов семьи). Приветствуется творческий подход и оригинальность \n. 2.      Домашнее задание — «Талант». Каждая семья должна предоставить номер. (Танец\, песню или театральную постановку\, исполненную всей семьей). \n  3.     «Конкурсно-игровой блок». Выполнение заданий\, проводимых организаторами\, во время самого конкурса (включает в себя как спортивные конкурсы\, так и творческие). \n  Заявки на участие в конкурсе принимаются до 21.10.2020 г. включительно на электронный адрес kdc2002@mail.ru. В заявке указать ФИО членов команды\, возраст\, контактный номер телефона.  \n
URL:https://zmkc.ru/event/mama-papa-ya-druzhnaya-semya/
LOCATION:Вокзальная 16\, Жигулевск
ATTACH;FMTTYPE=image/jpeg:https://zmkc.ru/wp-content/uploads/2019/10/DSC_0120.jpg
END:VEVENT
END:VCALENDAR