BEGIN:VCALENDAR
VERSION:2.0
PRODID:-//МБУК МКЦ - ECPv4.6.12//NONSGML v1.0//EN
CALSCALE:GREGORIAN
METHOD:PUBLISH
X-WR-CALNAME:МБУК МКЦ
X-ORIGINAL-URL:https://zmkc.ru
X-WR-CALDESC:Events for МБУК МКЦ
BEGIN:VEVENT
DTSTART;VALUE=DATE:20200604
DTEND;VALUE=DATE:20200612
DTSTAMP:20260422T165242
CREATED:20200604T154607Z
LAST-MODIFIED:20200604T154608Z
UID:4829-1591228800-1591919999@zmkc.ru
SUMMARY:Литературные чтения «Читаем Пушкина»
DESCRIPTION:  \nЕще один летний праздник отмечается в России 6 июня!\nЭто не просто знаменательная дата для русской культуры. В день рождения Александра Сергеевича Пушкина отмечается сразу двойной праздник – Пушкинский день и День русского языка. Именно А.С.Пушкину ставят в заслугу появление современного русского языка\, коим мы пользуемся в данный момент. Пушкин – любимый русский писатель\, поэтому объяснять – почему именно 6 июня\, в день его рождения\, было решено сделать День русского языка\, нет никакой необходимости. Просто потому\, что Пушкин – это наше все… \nМБУК «МКЦ» приглашает всех желающих принять участие в литературных чтениях\, посвященных дню рождения А.С. Пушкина. \nПодробные условия для участия на странице  Вконтакте . \n
URL:https://zmkc.ru/event/literaturnyie-chteniya-chitaem-pushkina/
LOCATION:Никитина 9\, Яблоневый Овраг\, Российская Федерация
END:VEVENT
END:VCALENDAR