BEGIN:VCALENDAR
VERSION:2.0
PRODID:-//МБУК МКЦ - ECPv4.6.12//NONSGML v1.0//EN
CALSCALE:GREGORIAN
METHOD:PUBLISH
X-WR-CALNAME:МБУК МКЦ
X-ORIGINAL-URL:https://zmkc.ru
X-WR-CALDESC:Events for МБУК МКЦ
BEGIN:VEVENT
DTSTART;TZID=UTC+4:20220623T170000
DTEND;TZID=UTC+4:20220623T180000
DTSTAMP:20260422T135138
CREATED:20220524T102206Z
LAST-MODIFIED:20220524T102206Z
UID:6638-1656003600-1656007200@zmkc.ru
SUMMARY:Летний вечер
DESCRIPTION:Лучшие творческие коллективы МБУК «МКЦ» приглашают на концерт на свежем воздухе \n
URL:https://zmkc.ru/event/letniy-vecher-2/
LOCATION:Парк 40 лет ВЛКСМ\, Жигулевск\, Самарская область
ATTACH;FMTTYPE=image/jpeg:https://zmkc.ru/wp-content/uploads/2022/05/UCKigjQlq24DUMPkyx7b_a0S8TMncrT91aHYdbQ63fWBXUkPlpyOFv265u59McR9YfBEPKPmNXaIAVMBfIpZCmg9.jpg
END:VEVENT
END:VCALENDAR