BEGIN:VCALENDAR
VERSION:2.0
PRODID:-//МБУК МКЦ - ECPv4.6.12//NONSGML v1.0//EN
CALSCALE:GREGORIAN
METHOD:PUBLISH
X-WR-CALNAME:МБУК МКЦ
X-ORIGINAL-URL:https://zmkc.ru
X-WR-CALDESC:Events for МБУК МКЦ
BEGIN:VEVENT
DTSTART;TZID=UTC+4:20210825T120000
DTEND;TZID=UTC+4:20210825T130000
DTSTAMP:20260422T184710
CREATED:20210813T050452Z
LAST-MODIFIED:20210813T050452Z
UID:6115-1629892800-1629896400@zmkc.ru
SUMMARY:Летний переполох
DESCRIPTION:Лето — время безостановочного веселья. Главное преимущество этого времени года: для того чтобы хорошо развлечься\, достаточно просто выйти на улицу.  Творческий коллектив Многофункционального культурного центра подготовил для детей мкрн.Яблоневый Овраг насыщенную развлекательную программу на все каникулы. Каждую среду ребят ждут творческие конкурсы и веселые старты. \nТакое времяпрепровождение позволяет  в игровой форме развивать основные физические качества: силу\, ловкость\, быстроту\, выдержку\, координацию движений. Развивать у детей творческие способности\, воображение; способствовать проявлению у детей инициативы. Воспитывать чувство товарищества\, коллективизма\, умение контролировать свои поступки. \n
URL:https://zmkc.ru/event/letniy-perepoloh-2/
LOCATION:Никитина 9\, Яблоневый Овраг\, Российская Федерация
ATTACH;FMTTYPE=image/jpeg:https://zmkc.ru/wp-content/uploads/2021/08/fc8d740c7375cc1a50cc10606631a0de.jpeg
END:VEVENT
END:VCALENDAR