BEGIN:VCALENDAR
VERSION:2.0
PRODID:-//МБУК МКЦ - ECPv4.6.12//NONSGML v1.0//EN
CALSCALE:GREGORIAN
METHOD:PUBLISH
X-WR-CALNAME:МБУК МКЦ
X-ORIGINAL-URL:https://zmkc.ru
X-WR-CALDESC:Events for МБУК МКЦ
BEGIN:VEVENT
DTSTART;VALUE=DATE:20190309
DTEND;VALUE=DATE:20190310
DTSTAMP:20260425T205754
CREATED:20190304T040218Z
LAST-MODIFIED:20190304T040218Z
UID:2385-1552089600-1552175999@zmkc.ru
SUMMARY:Концертно-игровая программа\, посвященная Международному женскому дню
DESCRIPTION:
URL:https://zmkc.ru/event/kontsertno-igrovaya-programma-posvyashhennaya-mezhdunarodnomu-zhenskomu-dnyu/
LOCATION:Вокзальная 16\, Жигулевск
END:VEVENT
END:VCALENDAR