BEGIN:VCALENDAR
VERSION:2.0
PRODID:-//МБУК МКЦ - ECPv4.6.12//NONSGML v1.0//EN
CALSCALE:GREGORIAN
METHOD:PUBLISH
X-WR-CALNAME:МБУК МКЦ
X-ORIGINAL-URL:https://zmkc.ru
X-WR-CALDESC:Events for МБУК МКЦ
BEGIN:VEVENT
DTSTART;TZID=UTC+4:20220612T160000
DTEND;TZID=UTC+4:20220612T170000
DTSTAMP:20260422T171748
CREATED:20220608T045106Z
LAST-MODIFIED:20220608T045106Z
UID:6668-1655049600-1655053200@zmkc.ru
SUMMARY:Концертно-игровая программа "Моя Россия"
DESCRIPTION:
URL:https://zmkc.ru/event/kontsertno-igrovaya-programma-moya-rossiya/
LOCATION:ул.Радиозаводская\,18\, Жигулевск\, Самарская область\, Российская Федерация
END:VEVENT
END:VCALENDAR