BEGIN:VCALENDAR
VERSION:2.0
PRODID:-//МБУК МКЦ - ECPv4.6.12//NONSGML v1.0//EN
CALSCALE:GREGORIAN
METHOD:PUBLISH
X-WR-CALNAME:МБУК МКЦ
X-ORIGINAL-URL:https://zmkc.ru
X-WR-CALDESC:Events for МБУК МКЦ
BEGIN:VEVENT
DTSTART;VALUE=DATE:20190307
DTEND;VALUE=DATE:20190308
DTSTAMP:20260425T235222
CREATED:20190304T035503Z
LAST-MODIFIED:20190304T035503Z
UID:2376-1551916800-1552003199@zmkc.ru
SUMMARY:Концертная программа "С любовью к маме!"
DESCRIPTION: \n
URL:https://zmkc.ru/event/kontsertnaya-programma-s-lyubovyu-k-mame/
END:VEVENT
END:VCALENDAR