BEGIN:VCALENDAR
VERSION:2.0
PRODID:-//МБУК МКЦ - ECPv4.6.12//NONSGML v1.0//EN
CALSCALE:GREGORIAN
METHOD:PUBLISH
X-WR-CALNAME:МБУК МКЦ
X-ORIGINAL-URL:https://zmkc.ru
X-WR-CALDESC:Events for МБУК МКЦ
BEGIN:VEVENT
DTSTART;VALUE=DATE:20200708
DTEND;VALUE=DATE:20200709
DTSTAMP:20260422T133546
CREATED:20200616T122815Z
LAST-MODIFIED:20200616T122815Z
UID:4889-1594166400-1594252799@zmkc.ru
SUMMARY:Концертная программа\, посвященная Дню семьи\, любви и верности
DESCRIPTION:Видеозапись концерта будет размещена на странице МБУК «МКЦ» (ДК «Юбилейный») Вконтакте.  \n8 июля в России отмечается ни на что не похожий\, очень душевный и глубокий по замыслу праздник – День семьи\, любви и верности. \nВ этом году\, к большому разочарованию зрителей и артистов\, невозможно будет отпраздновать такой замечательный праздник в привычном формате. Но коллектив Многофункционального культурного центра приготовил сюрприз для жителей Жигулевска. С любимыми ансамблями и солистами можно будет встретиться на странице учреждения Вконтакте. В этот день  будет транслироваться праздничный концерт 2017 года с участием любимых  коллективов МБУК «МКЦ». \n
URL:https://zmkc.ru/event/kontsertnaya-programma-posvyashhennaya-dnyu-semi-lyubvi-i-vernosti/
LOCATION:Никитина 9\, Яблоневый Овраг\, Российская Федерация
END:VEVENT
END:VCALENDAR