BEGIN:VCALENDAR
VERSION:2.0
PRODID:-//МБУК МКЦ - ECPv4.6.12//NONSGML v1.0//EN
CALSCALE:GREGORIAN
METHOD:PUBLISH
X-WR-CALNAME:МБУК МКЦ
X-ORIGINAL-URL:https://zmkc.ru
X-WR-CALDESC:Events for МБУК МКЦ
BEGIN:VEVENT
DTSTART;VALUE=DATE:20200215
DTEND;VALUE=DATE:20200216
DTSTAMP:20260422T184954
CREATED:20200115T133408Z
LAST-MODIFIED:20200205T042632Z
UID:4194-1581724800-1581811199@zmkc.ru
SUMMARY:Концерт Российского национального молодёжного симфонического оркестра
DESCRIPTION:15 февраля в 20.00 виртуальный концертный зал г.о. Жигулевск приглашает всех на онлайн-трансляцию концерта Российского национального молодежного симфонического оркестра.\nВ ПРОГРАММЕ:\nВ. А. Моцарт \nСеренада № 8 («Notturno») для четырёх оркестров\nКонцерт № 10 для двух фортепиано с оркестром\nВебер \nСимфония № 1\nСимфония № 2\n
URL:https://zmkc.ru/event/kontsert-rossiyskogo-natsionalnogo-molodyozhnogo-simfonicheskogo-orkestra/
LOCATION:Вокзальная 16\, Жигулевск
END:VEVENT
END:VCALENDAR