BEGIN:VCALENDAR
VERSION:2.0
PRODID:-//МБУК МКЦ - ECPv4.6.12//NONSGML v1.0//EN
CALSCALE:GREGORIAN
METHOD:PUBLISH
X-WR-CALNAME:МБУК МКЦ
X-ORIGINAL-URL:https://zmkc.ru
X-WR-CALDESC:Events for МБУК МКЦ
BEGIN:VEVENT
DTSTART;TZID=UTC+4:20201017T140000
DTEND;TZID=UTC+4:20201017T160000
DTSTAMP:20260422T185549
CREATED:20201005T102744Z
LAST-MODIFIED:20201005T102841Z
UID:5192-1602943200-1602950400@zmkc.ru
SUMMARY:Концерт Государственного симфонического оркестра Республики Татарстан
DESCRIPTION:Виртуальный концертный зал г.о. Жигулевск приглашает на очередную онлайн — трансляцию из абонемента Московской филармонии: Московская филармония – филармониям России. Субботние дневные симфонические концерты с трансляциями в филармонии России. \nГосударственный симфонический оркестр Республики Татарстан. \nДирижёр – Александр Сладковский. \nВ ПРОГРАММЕ: \nРавель(145 лет со дня рождения) \n«Испанская рапсодия» \n«Дафнис и Хлоя» – вторая сюита из музыки балета \n«Вальс» — хореографическая поэма \n«Болеро». \nГосударственный симфонический оркестр Республики Татарстан входит в число лучших коллективов России. Концерты с участием ГСО РТ с успехом проходят в Москве\, Перми\, Оренбурге\, Иркутске\, Сочи\, Тюмени в рамках фестивалей Сrescendo\, «Звезды на Байкале»\, «Оренбургские сезоны Дениса Мацуева»\, «Черешневый лес»\, «Безумный день в Японии»\, «Хибла Герзмава приглашает»\, «Опера Априори» и других. \n
URL:https://zmkc.ru/event/kontsert-gosudarstvennogo-simfonicheskogo-orkestra-respubliki-tatarstan/
LOCATION:Вокзальная 16\, Жигулевск
ATTACH;FMTTYPE=image/jpeg:https://zmkc.ru/wp-content/uploads/2020/10/natsionalnyy-simfonicheskiy-orkestr-respubliki-tatarstan.jpg
END:VEVENT
END:VCALENDAR