BEGIN:VCALENDAR
VERSION:2.0
PRODID:-//МБУК МКЦ - ECPv4.6.12//NONSGML v1.0//EN
CALSCALE:GREGORIAN
METHOD:PUBLISH
X-WR-CALNAME:МБУК МКЦ
X-ORIGINAL-URL:https://zmkc.ru
X-WR-CALDESC:Events for МБУК МКЦ
BEGIN:VEVENT
DTSTART;TZID=UTC+4:20200913T130000
DTEND;TZID=UTC+4:20200913T143000
DTSTAMP:20260422T135827
CREATED:20200903T020016Z
LAST-MODIFIED:20200903T020016Z
UID:5126-1600002000-1600007400@zmkc.ru
SUMMARY:Концерт государственного академического ансамбля народного танца имени И. Моисеева
DESCRIPTION:Виртуальный концертный зал г.о. Жигулевск приглашает 13 сентября в 13.00 на очередную видеотрансляцию из концертного зала имени П.И. Чайковского Московской филармонии. Концерт из абонемента: Виртуальный концертный зал. Московская филармония – филармониям России. Субботние дневные концерты с трансляциями в филармонии России. \nВ программе: \nГосударственный академический ансамбль народного танца имени Игоря Моисеева. \nТанцы народов мира. \nКонцерт в одном отделении. \nХореографический уровень коллектива\, созданного в 1937 году\, до сих пор служит непревзойденным эталоном\, а билеты на концерты ансамбля разлетаются мгновенно. \n
URL:https://zmkc.ru/event/kontsert-gosudarstvennogo-akademicheskogo-ansamblya-narodnogo-tantsa-imeni-i-moiseeva/
LOCATION:Вокзальная 16\, Жигулевск
ATTACH;FMTTYPE=image/jpeg:https://zmkc.ru/wp-content/uploads/2020/09/657ed289142d4ee4b179a8516663.jpg
END:VEVENT
END:VCALENDAR