BEGIN:VCALENDAR
VERSION:2.0
PRODID:-//МБУК МКЦ - ECPv4.6.12//NONSGML v1.0//EN
CALSCALE:GREGORIAN
METHOD:PUBLISH
X-WR-CALNAME:МБУК МКЦ
X-ORIGINAL-URL:https://zmkc.ru
X-WR-CALDESC:Events for МБУК МКЦ
BEGIN:VEVENT
DTSTART;TZID=UTC+4:20210621T170000
DTEND;TZID=UTC+4:20210621T180000
DTSTAMP:20260422T085314
CREATED:20210616T062224Z
LAST-MODIFIED:20210616T062224Z
UID:6013-1624294800-1624298400@zmkc.ru
SUMMARY:Концерт Александра Камеристова.
DESCRIPTION:Совсем недавно в Жигулевске в разных районах города было реконструировано множество общественных территорий. Реконструкция вдохнула новую жизнь в эти общественные пространства\, они стали центром притяжения для горожан. Обновленная Площадь Славы в мкр. Яблоневый Овраг ежедневно становится местом отдыха для жителей микрорайона. Неудивительно\, что количество культурных мероприятий на ней резко возросло. Вот и на этот раз для всех любителей хороших\, добрых песен состоится концерт Александра Камеристова-лауреата Питерского фестиваля»Белые ночи». В репертуаре артиста: С.Михайлов\, И.Саруханов\, А.Серов\, С.Пенкин\,»Штар»\, Ю.Антонов\,»Синяя птица»\,»Цветы» и т.д. \n \n
URL:https://zmkc.ru/event/kontsert-aleksandra-kameristova/
LOCATION:Никитина 9\, Яблоневый Овраг
ATTACH;FMTTYPE=image/jpeg:https://zmkc.ru/wp-content/uploads/2021/06/hnsHXEIpQCs.jpg
END:VEVENT
END:VCALENDAR