BEGIN:VCALENDAR
VERSION:2.0
PRODID:-//МБУК МКЦ - ECPv4.6.12//NONSGML v1.0//EN
CALSCALE:GREGORIAN
METHOD:PUBLISH
X-WR-CALNAME:МБУК МКЦ
X-ORIGINAL-URL:https://zmkc.ru
X-WR-CALDESC:Events for МБУК МКЦ
BEGIN:VEVENT
DTSTART;VALUE=DATE:20200420
DTEND;VALUE=DATE:20200501
DTSTAMP:20260422T135558
CREATED:20200420T140119Z
LAST-MODIFIED:20200420T140119Z
UID:4662-1587340800-1588291199@zmkc.ru
SUMMARY:Конкурс вокального искусства
DESCRIPTION:В группе Вконтакте вокального ансамбля «Камертон» начинается приём заявок на дистанционный конкурс вокального мастерства. \nУчастникам нужно:  \n1. Найти песню для исполнения; \n2. Записать на видео своё (обязательно живое) выступление; \n3.  Выслать готовый видеофайл в личные сообщения сообщества. \n4.  Написать и приложить к видео краткую анкету о себе\, указав ФИО\, возраст\, населенный пункт\, контактный телефон и краткий рассказ о своих увлечениях и хобби. \nПринять участие может любой желающий. Возрастная категория не ограничена! \nПодробные условия конкурса здесь. \n
URL:https://zmkc.ru/event/konkurs-vokalnogo-iskusstva/
LOCATION:Никитина 9\, Яблоневый Овраг\, Российская Федерация
END:VEVENT
END:VCALENDAR