BEGIN:VCALENDAR
VERSION:2.0
PRODID:-//МБУК МКЦ - ECPv4.6.12//NONSGML v1.0//EN
CALSCALE:GREGORIAN
METHOD:PUBLISH
X-WR-CALNAME:МБУК МКЦ
X-ORIGINAL-URL:https://zmkc.ru
X-WR-CALDESC:Events for МБУК МКЦ
BEGIN:VEVENT
DTSTART;VALUE=DATE:20200722
DTEND;VALUE=DATE:20200809
DTSTAMP:20260422T151513
CREATED:20200722T021007Z
LAST-MODIFIED:20200722T021315Z
UID:5026-1595376000-1596931199@zmkc.ru
SUMMARY:Конкурс «Вишневый пирог»
DESCRIPTION:Положение по конкурсу \n Конкурс «Вишневый пирог» является визитной карточкой известного фестиваля «Жигулевская вишня». Свыше 60 — ти участников ежегодно поражают членов жюри и гостей фестиваля своей фантазией и кулинарным мастерством. \n К сожалению\, из — за сложившейся эпидемиологической ситуации в этом году решено проводить конкурс в дистанционном режиме. Но\, с другой стороны\, организаторы планируют\, что дистанционный формат позволит расширить географию конкурса и привлечь участников со всей России. \n Традиционно к участию в конкурсе приглашаются Профессионалы и Любители\, которым предлагается проявить себя в двух номинациях: \n— «Вишневый пирог»; \n— «Вишневая фантазия». \n Все условия конкурса можно найти в Положении. Заявки на конкурс принимаются до 5 августа на электронную почту kdc2002@mail.ru.  \n
URL:https://zmkc.ru/event/konkurs-vishnevyiy-pirog/
LOCATION:Вокзальная 16\, Жигулевск
ATTACH;FMTTYPE=image/jpeg:https://zmkc.ru/wp-content/uploads/2020/07/44c823674110d6005f76e93b2e82f4c3_w2048_h2048.jpeg
END:VEVENT
END:VCALENDAR