BEGIN:VCALENDAR
VERSION:2.0
PRODID:-//МБУК МКЦ - ECPv4.6.12//NONSGML v1.0//EN
CALSCALE:GREGORIAN
METHOD:PUBLISH
X-WR-CALNAME:МБУК МКЦ
X-ORIGINAL-URL:https://zmkc.ru
X-WR-CALDESC:Events for МБУК МКЦ
BEGIN:VEVENT
DTSTART;TZID=UTC+4:20210728T170000
DTEND;TZID=UTC+4:20210728T180000
DTSTAMP:20260422T122859
CREATED:20210726T075132Z
LAST-MODIFIED:20210726T075132Z
UID:6089-1627491600-1627495200@zmkc.ru
SUMMARY:Конкурс рисунков на асфальте
DESCRIPTION: \n
URL:https://zmkc.ru/event/konkurs-risunkov-na-asfalte/
LOCATION:Никитинская\,15\, Жигулевск\, Самарская область\, Российская Федерация
END:VEVENT
END:VCALENDAR