BEGIN:VCALENDAR
VERSION:2.0
PRODID:-//МБУК МКЦ - ECPv4.6.12//NONSGML v1.0//EN
CALSCALE:GREGORIAN
METHOD:PUBLISH
X-WR-CALNAME:МБУК МКЦ
X-ORIGINAL-URL:https://zmkc.ru
X-WR-CALDESC:Events for МБУК МКЦ
BEGIN:VEVENT
DTSTART;VALUE=DATE:20200702
DTEND;VALUE=DATE:20200805
DTSTAMP:20260422T121848
CREATED:20200702T153852Z
LAST-MODIFIED:20200702T153852Z
UID:4981-1593648000-1596585599@zmkc.ru
SUMMARY:Конкурс «Переделки»
DESCRIPTION:Сообщество вокального коллектива «Созвездие» (Культурно-досуговый центр для детей и подростков г.о.Жигулевск) объявляет необычный конкурс для всех меломанов и просто любителей хороших песен. \nУсловия конкурса: \n— выбрать любую хорошую песню; \n—  переделать в ней слова так\, чтобы песня осталась узнаваемой; \n— под минусовку оригинала исполнить свой вариант песни; \n— записать получившийся «шедевр» на видео; \n— прислать в комментарии к посту о конкурсе Вконтакте; \n— юмор и креативный подход приветствуются! \n
URL:https://zmkc.ru/event/konkurs-peredelki/
LOCATION:Вокзальная 16\, Жигулевск
ATTACH;FMTTYPE=image/jpeg:https://zmkc.ru/wp-content/uploads/2020/07/top-10-karaoke-places-in-singapore.jpg
END:VEVENT
END:VCALENDAR