BEGIN:VCALENDAR
VERSION:2.0
PRODID:-//МБУК МКЦ - ECPv4.6.12//NONSGML v1.0//EN
CALSCALE:GREGORIAN
METHOD:PUBLISH
X-WR-CALNAME:МБУК МКЦ
X-ORIGINAL-URL:https://zmkc.ru
X-WR-CALDESC:Events for МБУК МКЦ
BEGIN:VEVENT
DTSTART;TZID=UTC+4:20201207T080000
DTEND;TZID=UTC+4:20201225T170000
DTSTAMP:20260422T133400
CREATED:20201204T022354Z
LAST-MODIFIED:20201218T024439Z
UID:5523-1607328000-1608915600@zmkc.ru
SUMMARY:Конкурс «Новогоднее настроение»
DESCRIPTION:До Нового года остается совсем немного времени и пора задуматься об украшении квартир\, окон и дворов. \nУправление социального развития администрации г.о.Жигулевск приглашает принять участие в Городском конкурсе на лучшее оформление дворовой территории и окон домов «Новогоднее настроение». \nВ конкурсе могут принять участие все желающие\, проживающие в городском округе Жигулевск. Конкурс пройдет по 3 номинациям: \n1. «Наш новогодний двор» — оформление придомовых территорий многоквартирных домов. \n2. «Новый год в моем окне» — оформление окон многоквартирных домов с возможным использованием елочных шаров\, световых гирлянд\, рисунков\, аппликаций и т.д. \n3. «Мой новогодний дом» — оформление придомовых территорий частного сектора. \nКонкурс проводится в II этапа: \nI этап (дистанционный) – с 07.12.2020 до 17.12.2020 – Прием заявок и фотографий конкурсных работ. Все участники I этапа получат сертификаты за участие \nII этап (очный) – с 18.12.2020 до 21.12.2020 – выезд конкурсной комиссии на территории для выбора победителей. Все участники II этапа получают дипломы за участие и призы. \nПобедители конкурса получат дипломы победителей и ценные призы. \nИтоги конкурса будут опубликованы 23.12.2020г. на сайте МБУК «МКЦ»  и на сайте администрации г.о.Жигулевск. \nБолее подробно в Положении \n
URL:https://zmkc.ru/event/konkurs-novogodnee-nastroenie/
LOCATION:Вокзальная 16\, Жигулевск
ATTACH;FMTTYPE=image/jpeg:https://zmkc.ru/wp-content/uploads/2020/12/moroz20141.jpg
END:VEVENT
END:VCALENDAR