BEGIN:VCALENDAR
VERSION:2.0
PRODID:-//МБУК МКЦ - ECPv4.6.12//NONSGML v1.0//EN
CALSCALE:GREGORIAN
METHOD:PUBLISH
X-WR-CALNAME:МБУК МКЦ
X-ORIGINAL-URL:https://zmkc.ru
X-WR-CALDESC:Events for МБУК МКЦ
BEGIN:VEVENT
DTSTART;VALUE=DATE:20210806
DTEND;VALUE=DATE:20210823
DTSTAMP:20260422T154141
CREATED:20210806T035341Z
LAST-MODIFIED:20210818T071814Z
UID:6101-1628208000-1629676799@zmkc.ru
SUMMARY:Конкурс «Крошечка-Хорошечка»
DESCRIPTION:Ежегодно в рамках фестиваля народных традиций «Яблоневый Спас» Многофункциональный культурный центр г.Жигулевск проводит детский конкурс «Крошечка-Хорошечка». В этом году из-за сложной эпидемиологической ситуации решено провести его в дистанционном формате. \n  Конкурс проводится среди детей от 3-х до 7-ми лет.\nДля участия в конкурсе необходимо до 18 августа прислать заявку с согласием на обработку персональных данных и видео конкурсного номера на почту mbuk-mkc@mail.ru.\nТворческий номер может быть представлен в любой форме: акробатический этюд\, зарисовка из спектакля\, танец\, песня и т.д.\nПобедители конкурса будут объявлены 20 августа на официальном сайте МБУК «МКЦ».  \nОбразец заявки и согласия для конкурса\nВсе участники получат дипломы в электронном виде\, а Победители — Дипломы и подарки. \n
URL:https://zmkc.ru/event/konkurs-kroshechka-horoshechka/
LOCATION:Никитина 9\, Яблоневый Овраг\, Российская Федерация
ATTACH;FMTTYPE=image/jpeg:https://zmkc.ru/wp-content/uploads/2021/08/2cfPPYJznoI.jpg
END:VEVENT
END:VCALENDAR