BEGIN:VCALENDAR
VERSION:2.0
PRODID:-//МБУК МКЦ - ECPv4.6.12//NONSGML v1.0//EN
CALSCALE:GREGORIAN
METHOD:PUBLISH
X-WR-CALNAME:МБУК МКЦ
X-ORIGINAL-URL:https://zmkc.ru
X-WR-CALDESC:Events for МБУК МКЦ
BEGIN:VEVENT
DTSTART;TZID=UTC+4:20260515T163000
DTEND;TZID=UTC+4:20260515T173000
DTSTAMP:20260422T161122
CREATED:20260422T090351Z
LAST-MODIFIED:20260422T090351Z
UID:9772-1778862600-1778866200@zmkc.ru
SUMMARY:КОНКУРС КОСПЛЕЯ
DESCRIPTION:📚 🚀 Готовы перевоплотиться? Стартует самый яркий конкурс косплея на «Весна-Фест»! 💥 \nМечтаете примерить образ любимого супергероя\, персонажа из аниме\, мультфильма или захватывающего сериала? Сейчас — самое время! 🎭✨ \nМы открываем отбор на Большой конкурс косплея\, который станет украшением нашего семейного фестиваля «Весна-Фест»! Это ваш шанс выйти из тени\, проявить креативность и зажечь на главной сцене города! 🔥 \n📚 📅 Когда и где?\n📍 Встречаемся: 15 мая в 16:30.\n📍 Место: Культурно-досуговый центр (ул. Вокзальная\, 16). \nЛучшие из лучших получат путевку на финал\, который состоится 22 мая на большой сцене «Весна-Фест»! 🏆 \n📚 📝 Как принять участие? (Все просто!) \n1. Выбери героя: Это может быть кто угодно — от классики кино до современных игровых персонажей. Главное — узнаваемый и крутой образ! 🦸‍♂️🧝‍♀️\n2. Забронируй место: Позвони Алёне Ивановне по номеру 8 987 917-96-87 и подай заявку до 14 мая (до 17:00). 📞\n3. Подготовь выступление: Продумай дефиле или небольшую сценку. Музыкальное сопровождение — ваш главный союзник\, чтобы эффектно «забрать» зал! 🎶 \n✨ Не упустите шанс стать настоящей звездой! Мы ждем самых креативных\, смелых и ярких участников. Готовьте костюмы\, реквизит и отличное настроение! 🤩 \nПоделись этим постом с друзьями — возможно\, вы создадите самую крутую косплей-команду! 👇 \n#Жигулевск #МКЦ_Жигулевск #ВеснаФЕСТ #Косплей \n
URL:https://zmkc.ru/event/konkurs-kospleya/
LOCATION:Вокзальная 16\, Жигулевск
ATTACH;FMTTYPE=image/jpeg:https://zmkc.ru/wp-content/uploads/2026/04/C1P9fnMdbPG8CGSnTCf550l8MT3gJfOsSd9GaR0jw0GhIE2qov_Zjkyj97kgHhbc7PKzOJT9l8pFoVECCaKgNIW-.jpg
END:VEVENT
END:VCALENDAR