BEGIN:VCALENDAR
VERSION:2.0
PRODID:-//МБУК МКЦ - ECPv4.6.12//NONSGML v1.0//EN
CALSCALE:GREGORIAN
METHOD:PUBLISH
X-WR-CALNAME:МБУК МКЦ
X-ORIGINAL-URL:https://zmkc.ru
X-WR-CALDESC:Events for МБУК МКЦ
BEGIN:VEVENT
DTSTART;TZID=UTC+4:20210730T080000
DTEND;TZID=UTC+4:20210818T170000
DTSTAMP:20260422T140821
CREATED:20210728T023338Z
LAST-MODIFIED:20210728T023338Z
UID:6092-1627632000-1629306000@zmkc.ru
SUMMARY:Конкурс фотографий
DESCRIPTION:‼ВНИМАНИЕ‼КОНКУРС\nПриглашаем принять участие в фотоконкурсе?в рамках фестиваля народных традиций «Яблоневый Спас». Возраст участников не ограничен.\nДля участия необходимо:\n✅Сделать потрясающую фотографию своего ребенка или себя ❤с яблоками.\n✅Прислать фотографию на наш электронный адрес\nmbuk-mkc@mail.ru в период с 30 июля по 18 августа.\n✅В тексте письма обязательно указать ФИО участника\, его возраст\, контактный номер телефона. (если участвует ребенок\, то и ФИО одного из родителей\, если в дипломе необходимо указать образовательное учреждение и руководителя\, то и эту информацию тоже).\nВсе\, приславшие фотографии\, получат Дипломы участников в электронном виде\, а Победители- Дипломы за 1\,2\,3 место.???\nНаграждение победителей состоится 20 августа на фестивале «Яблоневый Спас».\nОбязательные условия:\n‼В фотографиях обязательно должна быть отражена «яблочная» тема\n‼На фотографии должен быть непосредственно участник конкурса\n‼От каждого участника принимается только одна фотография.\nПрисылая фотографии на конкурс\, автор дает свое согласие на их публикацию на страницах учреждения Вконтакте и официальном сайте МБУК «МКЦ». \n
URL:https://zmkc.ru/event/konkurs-fotografiy/
LOCATION:Никитина 9\, Яблоневый Овраг\, Российская Федерация
ATTACH;FMTTYPE=image/png:https://zmkc.ru/wp-content/uploads/2021/07/Konkurs-fotografiy---YAblonevaya-fantaziya--.png
END:VEVENT
END:VCALENDAR