BEGIN:VCALENDAR
VERSION:2.0
PRODID:-//МБУК МКЦ - ECPv4.6.12//NONSGML v1.0//EN
CALSCALE:GREGORIAN
METHOD:PUBLISH
X-WR-CALNAME:МБУК МКЦ
X-ORIGINAL-URL:https://zmkc.ru
X-WR-CALDESC:Events for МБУК МКЦ
BEGIN:VEVENT
DTSTART;VALUE=DATE:20200424
DTEND;VALUE=DATE:20200425
DTSTAMP:20260422T104107
CREATED:20200312T101217Z
LAST-MODIFIED:20200312T101217Z
UID:4516-1587686400-1587772799@zmkc.ru
SUMMARY:Конкурс-фестиваль «Мы за здоровую альтернативу».
DESCRIPTION:В наше время спорт активно внедряется в различные сферы жизни и для самых разнообразных аудиторий. Многофункциональный культурный центр ежегодно проводит городской конкурс- фестиваль «Мы за здоровую альтернативу» в рамках акции «Мы за здоровое будущее! Присоединяйся к нам!» В соревнованиях принимают участие все школы города. От каждой школы выступает две команды: основная команда спортсменов и команда болельщиков. В то время пока спортсмены проходят маршрут по станциям\, команда болельщиков показывает свое домашнее задание. В этом году темой стало 75-летие со Дня Победы в ВОВ. Соревнования становятся настоящим праздником спорта\, здоровья и молодости! Ребята понимают: чтобы завоевать победу – мало быть просто физически сильным. Необходимо при этом обладать достаточной целеустремленностью\, силой воли\, быть организованным и собранным\, ловким и находчивым.  \nЖдем представителей школ города 24 апреля в 13.00 на стадионе «Кристалл»! \n \n
URL:https://zmkc.ru/event/konkurs-festival-myi-za-zdorovuyu-alternativu/
LOCATION:Жигулевск
END:VEVENT
END:VCALENDAR